BEGIN:VCALENDAR
VERSION:2.0
PRODID:-//Sabre//Sabre VObject 3.5.3//EN
CALSCALE:GREGORIAN
BEGIN:VTIMEZONE
TZID:Europe/London
BEGIN:STANDARD
TZNAME:GMT
DTSTART:19701025T020000
RRULE:FREQ=YEARLY;BYMONTH=10;BYDAY=-1SU
TZOFFSETFROM:+0100
TZOFFSETTO:+0000
END:STANDARD
BEGIN:DAYLIGHT
TZNAME:BST
DTSTART:19700329T010000
RRULE:FREQ=YEARLY;BYMONTH=3;BYDAY=-1SU
TZOFFSETFROM:+0000
TZOFFSETTO:+0100
END:DAYLIGHT
END:VTIMEZONE
BEGIN:VEVENT
UID:event_315201@surreyfringe.org
DTSTART;TZID=Europe/London:20260808T100000
DTEND;TZID=Europe/London:20260808T123000
SUMMARY:RIPLEY FARMERS' MARKET
DESCRIPTION:Surrey Fringe Chorus will be performing a number of popular son
 gs in Barbershop style 4-part harmony at Ripley Farmers&#39\; Market on Ri
 pley Green at 10:30 and again at 11:30\, each for approximately 20mins. &n
 bsp\;\n\nFor full event details\, visit: https://www.surreyfringe.org/dbpa
 ge.php?pg=view&dbase=events&id=315201
LOCATION:The Green\, Ripley\, Woking\, GU23 6AN
URL:https://www.surreyfringe.org/dbpage.php?pg=view&dbase=events&id=315201
END:VEVENT
END:VCALENDAR
